BEGIN:VCALENDAR
VERSION:2.0
PRODID:-//Drupal iCal API//EN
X-WR-CALNAME:Calendar of Events
X-WR-TIMEZONE:America/Chicago
BEGIN:VTIMEZONE
TZID:America/Chicago
X-LIC-LOCATION:America/Chicago
BEGIN:DAYLIGHT
TZNAME:CDT
TZOFFSETFROM:-0600
TZOFFSETTO:-0500
DTSTART:20260308T080000
END:DAYLIGHT
BEGIN:STANDARD
TZNAME:CST
TZOFFSETFROM:-0500
TZOFFSETTO:-0600
DTSTART:20251102T070000
END:STANDARD
END:VTIMEZONE
BEGIN:VEVENT
UID:ccd8d1fa-facb-4f0a-adf2-3b2c98ef3fad
DTSTART;VALUE=DATE:20260423
SEQUENCE:0
TRANSP:TRANSPARENT
DTEND;VALUE=DATE:20260424
SUMMARY:EOC Exams Algebra 1
CLASS:PUBLIC
DESCRIPTION:Body \n\nStudents enrolled in Algebra 1 will take the EOC for A
 lgebra 1.  See\nPrincipal Lancaster's Community Update for more informati
 on. \nStudents will also receive further information in their Algebra 1\n
 classes.
X-MICROSOFT-CDO-ALLDAYEVENT:TRUE
DTSTAMP:20260421T225009Z
END:VEVENT
END:VCALENDAR