BEGIN:VCALENDAR
VERSION:2.0
PRODID:-//Drupal iCal API//EN
X-WR-CALNAME:Calendar of Events
X-WR-TIMEZONE:America/Chicago
BEGIN:VTIMEZONE
TZID:America/Chicago
X-LIC-LOCATION:America/Chicago
BEGIN:DAYLIGHT
TZNAME:CDT
TZOFFSETFROM:-0600
TZOFFSETTO:-0500
DTSTART:20260308T080000
END:DAYLIGHT
BEGIN:STANDARD
TZNAME:CST
TZOFFSETFROM:-0500
TZOFFSETTO:-0600
DTSTART:20251102T070000
END:STANDARD
END:VTIMEZONE
BEGIN:VEVENT
UID:f889601b-0b8a-4700-b579-7988801af3f7
DTSTART;VALUE=DATE:20260529
SEQUENCE:0
TRANSP:TRANSPARENT
DTEND;VALUE=DATE:20260530
SUMMARY:Graduation!
CLASS:PUBLIC
DESCRIPTION:Body \n\nGraduation will be at 12 noon at Burger Arena.  Check
  for updated\ninformation on the Anderson Senior Page\n[https://anderson.a
 ustinschools.org/students/seniorinformation] and\nthe Austin ISD Graduatio
 n Page.  \n[https://www.austinisd.org/graduation]
X-MICROSOFT-CDO-ALLDAYEVENT:TRUE
DTSTAMP:20260422T001509Z
END:VEVENT
END:VCALENDAR